BEGIN:VCALENDAR
METHOD:PUBLISH
PRODID:Data::ICal 0.13
VERSION:2.0
BEGIN:VEVENT
DESCRIPTION:This year’s headliners include the soulful D’Angelo, who will perform alongside The Roots, festival founders and legends in their own right. Joining them is rock superstar Lenny Kravitz, whose dynamic presence is sure to captivate audiences, and Philadelphia’s very own hip-hop heavyweight, Meek Mill. The Roots Picnic further showcases a mix of genres, featuring popular artists like Miguel, Tems, GloRilla, Latto, Kaytranada, Jeezy, Pusha T, and 2 Chainz. Adding depth to the lineup are unique acts like Trap Karaoke and the Backyard Band featuring CeeLo Green.\nCLICK HERE FOR MORE INFO
DTSTAMP:20260420T200457Z
DTSTART;TZID=America/New_York:20250531T000000
DTEND;TZID=America/New_York:20250601T000000
LOCATION:Philadelphia\, PA
SUMMARY:Roots Picnic 2025
UID:5446181-1748649600-1748736000
END:VEVENT
END:VCALENDAR
